BEGIN:VCALENDAR
VERSION:2.0
PRODID:-//Port Huron Tennis House- Port Huron and greater St. Clair County Tennis and Tennis Instruction - ECPv4.9.14//NONSGML v1.0//EN
CALSCALE:GREGORIAN
METHOD:PUBLISH
X-WR-CALNAME:Port Huron Tennis House- Port Huron and greater St. Clair County Tennis and Tennis Instruction
X-ORIGINAL-URL:https://www.phtennishouse.com
X-WR-CALDESC:Events for Port Huron Tennis House- Port Huron and greater St. Clair County Tennis and Tennis Instruction
BEGIN:VTIMEZONE
TZID:America/New_York
BEGIN:DAYLIGHT
TZOFFSETFROM:-0500
TZOFFSETTO:-0400
TZNAME:EDT
DTSTART:20200308T070000
END:DAYLIGHT
BEGIN:STANDARD
TZOFFSETFROM:-0400
TZOFFSETTO:-0500
TZNAME:EST
DTSTART:20201101T060000
END:STANDARD
END:VTIMEZONE
BEGIN:VEVENT
DTSTART;TZID=America/New_York:20201126T080000
DTEND;TZID=America/New_York:20201126T210000
DTSTAMP:20260421T091027
CREATED:20201106T195839Z
LAST-MODIFIED:20201106T200757Z
UID:98775-1606377600-1606424400@www.phtennishouse.com
SUMMARY:Thanksgiving 2020 - Closed
DESCRIPTION:There are no leagues\, reserved court times or classes on: \n\nThursday\, November 26\, 2020 (Thanksgiving)\nDuring the Holiday Break 12/21/2020 – 1/3/2021\nSunday\, April 4\, 2021 (Easter)\n\nSpecial holiday break group lessons may be planned and added to the calendar. Please check back for updates. \nAll lessons\, leagues and Reserved Court Time play as scheduled during Spring Break. \nMake-ups for private lessons are limited to ONE per half-season. \n
URL:https://www.phtennishouse.com/event/thanksgiving-closed-2/
END:VEVENT
END:VCALENDAR