BEGIN:VCALENDAR
VERSION:2.0
PRODID:-//Port Huron Tennis House- Port Huron and greater St. Clair County Tennis and Tennis Instruction - ECPv4.9.14//NONSGML v1.0//EN
CALSCALE:GREGORIAN
METHOD:PUBLISH
X-WR-CALNAME:Port Huron Tennis House- Port Huron and greater St. Clair County Tennis and Tennis Instruction
X-ORIGINAL-URL:https://www.phtennishouse.com
X-WR-CALDESC:Events for Port Huron Tennis House- Port Huron and greater St. Clair County Tennis and Tennis Instruction
BEGIN:VTIMEZONE
TZID:America/New_York
BEGIN:DAYLIGHT
TZOFFSETFROM:-0500
TZOFFSETTO:-0400
TZNAME:EDT
DTSTART:20200308T070000
END:DAYLIGHT
BEGIN:STANDARD
TZOFFSETFROM:-0400
TZOFFSETTO:-0500
TZNAME:EST
DTSTART:20201101T060000
END:STANDARD
END:VTIMEZONE
BEGIN:VEVENT
DTSTART;TZID=America/New_York:20201224T090000
DTEND;TZID=America/New_York:20201224T130000
DTSTAMP:20260421T115856
CREATED:20201215T151520Z
LAST-MODIFIED:20201215T151838Z
UID:99289-1608800400-1608814800@www.phtennishouse.com
SUMMARY:Open 9am-1pm
DESCRIPTION:Open 9am-1pm \n
URL:https://www.phtennishouse.com/event/open-9am-1pm/2020-12-24/
END:VEVENT
END:VCALENDAR