BEGIN:VCALENDAR
VERSION:2.0
PRODID:-//Port Huron Tennis House- Port Huron and greater St. Clair County Tennis and Tennis Instruction - ECPv4.9.14//NONSGML v1.0//EN
CALSCALE:GREGORIAN
METHOD:PUBLISH
X-WR-CALNAME:Port Huron Tennis House- Port Huron and greater St. Clair County Tennis and Tennis Instruction
X-ORIGINAL-URL:https://www.phtennishouse.com
X-WR-CALDESC:Events for Port Huron Tennis House- Port Huron and greater St. Clair County Tennis and Tennis Instruction
BEGIN:VTIMEZONE
TZID:America/New_York
BEGIN:DAYLIGHT
TZOFFSETFROM:-0500
TZOFFSETTO:-0400
TZNAME:EDT
DTSTART:20200308T070000
END:DAYLIGHT
BEGIN:STANDARD
TZOFFSETFROM:-0400
TZOFFSETTO:-0500
TZNAME:EST
DTSTART:20201101T060000
END:STANDARD
END:VTIMEZONE
BEGIN:VEVENT
DTSTART;VALUE=DATE:20201225
DTEND;VALUE=DATE:20201226
DTSTAMP:20260421T105606
CREATED:20201215T151655Z
LAST-MODIFIED:20201215T151655Z
UID:99292-1608854400-1608940799@www.phtennishouse.com
SUMMARY:Closed
DESCRIPTION:Closed Christmas Day and New Year’s Day \n
URL:https://www.phtennishouse.com/event/closed/2020-12-25/
END:VEVENT
END:VCALENDAR